BEGIN:VCALENDAR
VERSION:2.0
PRODID:-//Byakko Shinko Kai - ECPv6.15.19//NONSGML v1.0//EN
CALSCALE:GREGORIAN
METHOD:PUBLISH
X-WR-CALNAME:Byakko Shinko Kai
X-ORIGINAL-URL:https://byakko.org
X-WR-CALDESC:Events for Byakko Shinko Kai
REFRESH-INTERVAL;VALUE=DURATION:PT1H
X-Robots-Tag:noindex
X-PUBLISHED-TTL:PT1H
BEGIN:VTIMEZONE
TZID:Asia/Tokyo
BEGIN:STANDARD
TZOFFSETFROM:+0900
TZOFFSETTO:+0900
TZNAME:JST
DTSTART:20250101T000000
END:STANDARD
END:VTIMEZONE
BEGIN:VEVENT
DTSTART;TZID=Asia/Tokyo:20261101T110000
DTEND;TZID=Asia/Tokyo:20261101T130000
DTSTAMP:20260425T090412
CREATED:20260130T041313Z
LAST-MODIFIED:20260228T041437Z
UID:3910-1793530800-1793538000@byakko.org
SUMMARY:Festival of Gratitude to Masahisa Goi
DESCRIPTION:*Open to All \n*ONLINE event \nThis annual festival\, held in November\, celebrates the birthday of the late Masahisa Goi\, founder of Byakko Shinko Kai and the world peace prayer movement.\nIt is a joyful day at Fuji Sanctuary\, and all are invited to be part of the celebration. \nFor more info click here
URL:https://byakko.org/event/festival-of-gratitude-to-masahisa-goi-6/
LOCATION:Fuji Sanctuary
CATEGORIES:Main event,On-line event
END:VEVENT
END:VCALENDAR